Package: les Version: 1.59.0 Command: /home/biocbuild/R/R/bin/R CMD INSTALL les StartedAt: 2025-07-24 21:01:45 -0000 (Thu, 24 Jul 2025) EndedAt: 2025-07-24 21:02:19 -0000 (Thu, 24 Jul 2025) EllapsedTime: 34.6 seconds RetCode: 0 Status: OK