Package: les Version: 1.59.0 Command: /home/biocbuild/R/R/bin/R CMD build --keep-empty-dirs --no-resave-data les StartedAt: 2025-07-25 01:34:02 -0000 (Fri, 25 Jul 2025) EndedAt: 2025-07-25 01:34:22 -0000 (Fri, 25 Jul 2025) EllapsedTime: 20.0 seconds RetCode: 0 Status: OK PackageFile: les_1.59.0.tar.gz PackageFileSize: 439.3 KiB