Package: les Version: 1.59.0 Command: /Library/Frameworks/R.framework/Resources/bin/R CMD check --install=check:les.install-out.txt --library=/Library/Frameworks/R.framework/Resources/library --no-vignettes --timings les_1.59.0.tar.gz StartedAt: 2025-07-21 21:33:51 -0400 (Mon, 21 Jul 2025) EndedAt: 2025-07-21 21:34:55 -0400 (Mon, 21 Jul 2025) EllapsedTime: 64.2 seconds RetCode: 0 Status: OK CheckDir: les.Rcheck Warnings: 0