Package: les Version: 1.59.0 Command: /Library/Frameworks/R.framework/Resources/bin/R CMD build --keep-empty-dirs --no-resave-data les StartedAt: 2025-07-20 17:27:02 -0400 (Sun, 20 Jul 2025) EndedAt: 2025-07-20 17:27:27 -0400 (Sun, 20 Jul 2025) EllapsedTime: 25.3 seconds RetCode: 0 Status: OK PackageFile: les_1.59.0.tar.gz PackageFileSize: 447.5 KiB