Package: les Version: 1.59.0 Command: /Library/Frameworks/R.framework/Resources/bin/R CMD INSTALL les StartedAt: 2025-07-24 15:12:39 -0400 (Thu, 24 Jul 2025) EndedAt: 2025-07-24 15:12:46 -0400 (Thu, 24 Jul 2025) EllapsedTime: 6.8 seconds RetCode: 0 Status: OK