Package: les Version: 1.59.0 Command: /Library/Frameworks/R.framework/Resources/bin/R CMD build --keep-empty-dirs --no-resave-data les StartedAt: 2025-07-24 16:53:34 -0400 (Thu, 24 Jul 2025) EndedAt: 2025-07-24 16:53:42 -0400 (Thu, 24 Jul 2025) EllapsedTime: 8.1 seconds RetCode: 0 Status: OK PackageFile: les_1.59.0.tar.gz PackageFileSize: 448.1 KiB