Package: lemur Version: 1.7.0 Command: /home/biocbuild/R/R/bin/R CMD INSTALL lemur StartedAt: 2025-07-21 21:03:41 -0000 (Mon, 21 Jul 2025) EndedAt: 2025-07-21 21:04:33 -0000 (Mon, 21 Jul 2025) EllapsedTime: 52.7 seconds RetCode: 0 Status: OK