Package: lemur Version: 1.7.0 Command: /home/biocbuild/R/R/bin/R CMD check --install=check:lemur.install-out.txt --library=/home/biocbuild/R/R/site-library --no-vignettes --timings lemur_1.7.0.tar.gz StartedAt: 2025-07-22 08:42:27 -0000 (Tue, 22 Jul 2025) EndedAt: 2025-07-22 08:48:05 -0000 (Tue, 22 Jul 2025) EllapsedTime: 337.6 seconds RetCode: 0 Status: WARNINGS CheckDir: lemur.Rcheck Warnings: 1