Package: lemur Version: 1.7.0 Command: F:\biocbuild\bbs-3.22-bioc\R\bin\R.exe CMD check --no-multiarch --install=check:lemur.install-out.txt --library=F:\biocbuild\bbs-3.22-bioc\R\library --no-vignettes --timings lemur_1.7.0.tar.gz StartedAt: 2025-07-12 03:17:42 -0400 (Sat, 12 Jul 2025) EndedAt: 2025-07-12 03:23:54 -0400 (Sat, 12 Jul 2025) EllapsedTime: 371.4 seconds RetCode: 0 Status: WARNINGS CheckDir: lemur.Rcheck Warnings: 1