Package: lefser Version: 1.19.1 Command: /home/biocbuild/R/R/bin/R CMD build --keep-empty-dirs --no-resave-data lefser StartedAt: 2025-10-07 00:36:41 -0000 (Tue, 07 Oct 2025) EndedAt: 2025-10-07 00:37:47 -0000 (Tue, 07 Oct 2025) EllapsedTime: 66.0 seconds RetCode: 0 Status: OK PackageFile: lefser_1.19.1.tar.gz PackageFileSize: 557.7 KiB