Package: lefser Version: 1.19.1 Command: F:\biocbuild\bbs-3.22-bioc\R\bin\R.exe CMD INSTALL lefser StartedAt: 2025-08-14 17:01:50 -0400 (Thu, 14 Aug 2025) EndedAt: 2025-08-14 17:02:26 -0400 (Thu, 14 Aug 2025) EllapsedTime: 36.0 seconds RetCode: 0 Status: OK