Package: lefser Version: 1.19.1 Command: /Library/Frameworks/R.framework/Resources/bin/R CMD check --install=check:lefser.install-out.txt --library=/Library/Frameworks/R.framework/Resources/library --no-vignettes --timings lefser_1.19.1.tar.gz StartedAt: 2025-10-05 22:24:59 -0400 (Sun, 05 Oct 2025) EndedAt: 2025-10-05 22:30:14 -0400 (Sun, 05 Oct 2025) EllapsedTime: 314.8 seconds RetCode: 0 Status: OK CheckDir: lefser.Rcheck Warnings: 0