Package: lefser Version: 1.19.1 Command: /Library/Frameworks/R.framework/Resources/bin/R CMD build --keep-empty-dirs --no-resave-data lefser StartedAt: 2025-10-05 17:35:32 -0400 (Sun, 05 Oct 2025) EndedAt: 2025-10-05 17:36:42 -0400 (Sun, 05 Oct 2025) EllapsedTime: 70.0 seconds RetCode: 0 Status: OK PackageFile: lefser_1.19.1.tar.gz PackageFileSize: 613.5 KiB