Package: lefser Version: 1.19.1 Command: /Library/Frameworks/R.framework/Resources/bin/R CMD INSTALL lefser StartedAt: 2025-10-06 15:30:15 -0400 (Mon, 06 Oct 2025) EndedAt: 2025-10-06 15:30:26 -0400 (Mon, 06 Oct 2025) EllapsedTime: 11.5 seconds RetCode: 0 Status: OK