Package: lefser Version: 1.19.1 Command: /Library/Frameworks/R.framework/Resources/bin/R CMD check --install=check:lefser.install-out.txt --library=/Library/Frameworks/R.framework/Resources/library --no-vignettes --timings lefser_1.19.1.tar.gz StartedAt: 2025-10-06 20:11:08 -0400 (Mon, 06 Oct 2025) EndedAt: 2025-10-06 20:12:46 -0400 (Mon, 06 Oct 2025) EllapsedTime: 98.3 seconds RetCode: 0 Status: OK CheckDir: lefser.Rcheck Warnings: 0