Package: lefser Version: 1.19.1 Command: /Library/Frameworks/R.framework/Resources/bin/R CMD build --keep-empty-dirs --no-resave-data lefser StartedAt: 2025-10-06 16:51:03 -0400 (Mon, 06 Oct 2025) EndedAt: 2025-10-06 16:51:24 -0400 (Mon, 06 Oct 2025) EllapsedTime: 21.2 seconds RetCode: 0 Status: OK PackageFile: lefser_1.19.1.tar.gz PackageFileSize: 613.6 KiB