Package: ldblock Version: 1.39.0 Command: rm -rf ldblock.buildbin-libdir && mkdir ldblock.buildbin-libdir && /Users/biocbuild/BBS/utils/build-universal.sh ldblock_1.39.0.tar.gz /Library/Frameworks/R.framework/Resources/bin/R ldblock.buildbin-libdir StartedAt: 2025-07-23 01:12:42 -0400 (Wed, 23 Jul 2025) EndedAt: 2025-07-23 01:13:00 -0400 (Wed, 23 Jul 2025) EllapsedTime: 17.3 seconds RetCode: 0 Status: OK PackageFile: ldblock_1.39.0.tgz PackageFileSize: 40.29 MiB