Package: ldblock Version: 1.39.0 Command: /Library/Frameworks/R.framework/Resources/bin/R CMD INSTALL ldblock StartedAt: 2025-07-24 15:16:18 -0400 (Thu, 24 Jul 2025) EndedAt: 2025-07-24 15:16:20 -0400 (Thu, 24 Jul 2025) EllapsedTime: 2.5 seconds RetCode: 0 Status: OK