Package: lapmix Version: 1.75.0 Command: chmod a+r lapmix -R && F:\biocbuild\bbs-3.22-bioc\R\bin\R.exe CMD build --keep-empty-dirs --no-resave-data lapmix StartedAt: 2025-07-11 19:55:57 -0400 (Fri, 11 Jul 2025) EndedAt: 2025-07-11 19:56:01 -0400 (Fri, 11 Jul 2025) EllapsedTime: 4.0 seconds RetCode: 1 Status: ERROR PackageFile: None PackageFileSize: NA