Package: koinar Version: 1.3.0 Command: /home/biocbuild/R/R/bin/R CMD INSTALL koinar StartedAt: 2025-07-24 21:00:52 -0000 (Thu, 24 Jul 2025) EndedAt: 2025-07-24 21:01:21 -0000 (Thu, 24 Jul 2025) EllapsedTime: 28.8 seconds RetCode: 0 Status: OK