Package: koinar Version: 1.3.0 Command: /home/biocbuild/R/R/bin/R CMD build --keep-empty-dirs --no-resave-data koinar StartedAt: 2025-07-25 01:32:57 -0000 (Fri, 25 Jul 2025) EndedAt: 2025-07-25 01:33:38 -0000 (Fri, 25 Jul 2025) EllapsedTime: 41.0 seconds RetCode: 0 Status: OK PackageFile: koinar_1.3.0.tar.gz PackageFileSize: 946.9 KiB