Package: koinar Version: 1.3.0 Command: chmod a+r koinar -R && F:\biocbuild\bbs-3.22-bioc\R\bin\R.exe CMD build --keep-empty-dirs --no-resave-data koinar StartedAt: 2025-08-14 21:05:43 -0400 (Thu, 14 Aug 2025) EndedAt: 2025-08-14 21:06:39 -0400 (Thu, 14 Aug 2025) EllapsedTime: 56.4 seconds RetCode: 0 Status: OK PackageFile: koinar_1.3.0.tar.gz PackageFileSize: 781.2 KiB