Package: knowYourCG Version: 1.5.2 Command: /home/biocbuild/R/R/bin/R CMD INSTALL knowYourCG StartedAt: 2025-07-17 20:37:50 -0000 (Thu, 17 Jul 2025) EndedAt: 2025-07-17 20:38:19 -0000 (Thu, 17 Jul 2025) EllapsedTime: 29.3 seconds RetCode: 0 Status: OK