Package: knowYourCG Version: 1.5.2 Command: /home/biocbuild/R/R/bin/R CMD check --install=check:knowYourCG.install-out.txt --library=/home/biocbuild/R/R/site-library --no-vignettes --timings knowYourCG_1.5.2.tar.gz StartedAt: 2025-07-18 08:03:41 -0000 (Fri, 18 Jul 2025) EndedAt: 2025-07-18 08:09:20 -0000 (Fri, 18 Jul 2025) EllapsedTime: 338.7 seconds RetCode: 0 Status: OK CheckDir: knowYourCG.Rcheck Warnings: 0