Package: knowYourCG Version: 1.5.2 Command: F:\biocbuild\bbs-3.22-bioc\R\bin\R.exe CMD check --no-multiarch --install=check:knowYourCG.install-out.txt --library=F:\biocbuild\bbs-3.22-bioc\R\library --no-vignettes --timings knowYourCG_1.5.2.tar.gz StartedAt: 2025-07-21 03:24:56 -0400 (Mon, 21 Jul 2025) EndedAt: 2025-07-21 03:30:54 -0400 (Mon, 21 Jul 2025) EllapsedTime: 357.8 seconds RetCode: 0 Status: OK CheckDir: knowYourCG.Rcheck Warnings: 0