Package: knowYourCG Version: 1.5.2 Command: chmod a+r knowYourCG -R && F:\biocbuild\bbs-3.22-bioc\R\bin\R.exe CMD build --keep-empty-dirs --no-resave-data knowYourCG StartedAt: 2025-07-18 19:59:45 -0400 (Fri, 18 Jul 2025) EndedAt: 2025-07-18 20:03:37 -0400 (Fri, 18 Jul 2025) EllapsedTime: 231.7 seconds RetCode: 0 Status: OK PackageFile: knowYourCG_1.5.2.tar.gz PackageFileSize: 14.46 MiB