Package: knowYourCG Version: 1.5.2 Command: rm -rf knowYourCG.buildbin-libdir && mkdir knowYourCG.buildbin-libdir && F:\biocbuild\bbs-3.22-bioc\R\bin\R.exe CMD INSTALL --build --library=knowYourCG.buildbin-libdir knowYourCG_1.5.2.tar.gz StartedAt: 2025-07-19 09:24:54 -0400 (Sat, 19 Jul 2025) EndedAt: 2025-07-19 09:25:56 -0400 (Sat, 19 Jul 2025) EllapsedTime: 62.2 seconds RetCode: 0 Status: OK PackageFile: knowYourCG_1.5.2.zip PackageFileSize: 13.22 MiB