Package: knowYourCG Version: 1.5.2 Command: /home/biocbuild/bbs-3.22-bioc/R/bin/R CMD INSTALL knowYourCG StartedAt: 2025-07-18 15:25:33 -0400 (Fri, 18 Jul 2025) EndedAt: 2025-07-18 15:25:55 -0400 (Fri, 18 Jul 2025) EllapsedTime: 22.1 seconds RetCode: 0 Status: OK