Package: knowYourCG Version: 1.5.2 Command: /home/biocbuild/bbs-3.22-bioc/R/bin/R CMD build --keep-empty-dirs --no-resave-data --md5 knowYourCG StartedAt: 2025-07-18 17:47:00 -0400 (Fri, 18 Jul 2025) EndedAt: 2025-07-18 17:49:04 -0400 (Fri, 18 Jul 2025) EllapsedTime: 124.2 seconds RetCode: 0 Status: OK PackageFile: knowYourCG_1.5.2.tar.gz PackageFileSize: 14.55 MiB