Package: knowYourCG Version: 1.5.2 Command: /Library/Frameworks/R.framework/Resources/bin/R CMD build --keep-empty-dirs --no-resave-data knowYourCG StartedAt: 2025-10-05 17:35:03 -0400 (Sun, 05 Oct 2025) EndedAt: 2025-10-05 17:38:21 -0400 (Sun, 05 Oct 2025) EllapsedTime: 198.0 seconds RetCode: 0 Status: OK PackageFile: knowYourCG_1.5.2.tar.gz PackageFileSize: 14.58 MiB