Package: knowYourCG Version: 1.5.2 Command: /Library/Frameworks/R.framework/Resources/bin/R CMD check --install=check:knowYourCG.install-out.txt --library=/Library/Frameworks/R.framework/Resources/library --no-vignettes --timings knowYourCG_1.5.2.tar.gz StartedAt: 2025-07-20 19:57:23 -0400 (Sun, 20 Jul 2025) EndedAt: 2025-07-20 19:59:10 -0400 (Sun, 20 Jul 2025) EllapsedTime: 107.4 seconds RetCode: 0 Status: OK CheckDir: knowYourCG.Rcheck Warnings: 0