Package: knowYourCG Version: 1.5.2 Command: /Library/Frameworks/R.framework/Resources/bin/R CMD build --keep-empty-dirs --no-resave-data knowYourCG StartedAt: 2025-07-20 16:44:36 -0400 (Sun, 20 Jul 2025) EndedAt: 2025-07-20 16:45:37 -0400 (Sun, 20 Jul 2025) EllapsedTime: 60.7 seconds RetCode: 0 Status: OK PackageFile: knowYourCG_1.5.2.tar.gz PackageFileSize: 14.56 MiB