Package: knowYourCG Version: 1.5.2 Maintainer: Goldberg David MaintainerEmail: golddc72 at pennmedicine.upenn.edu git_url: https://git.bioconductor.org/packages/knowYourCG git_branch: devel git_last_commit: 1226e88 git_last_commit_date: 2025-06-14 22:15:52 -0400 (Sat, 14 Jun 2025)