Package: kmcut Version: 1.3.0 Command: chmod a+r kmcut -R && F:\biocbuild\bbs-3.22-bioc\R\bin\R.exe CMD build --keep-empty-dirs --no-resave-data kmcut StartedAt: 2025-07-20 19:56:09 -0400 (Sun, 20 Jul 2025) EndedAt: 2025-07-20 19:57:02 -0400 (Sun, 20 Jul 2025) EllapsedTime: 53.2 seconds RetCode: 0 Status: OK PackageFile: kmcut_1.3.0.tar.gz PackageFileSize: 542.4 KiB