Package: kmcut Version: 1.3.0 Command: rm -rf kmcut.buildbin-libdir && mkdir kmcut.buildbin-libdir && F:\biocbuild\bbs-3.22-bioc\R\bin\R.exe CMD INSTALL --build --library=kmcut.buildbin-libdir kmcut_1.3.0.tar.gz StartedAt: 2025-07-21 09:20:05 -0400 (Mon, 21 Jul 2025) EndedAt: 2025-07-21 09:20:36 -0400 (Mon, 21 Jul 2025) EllapsedTime: 31.0 seconds RetCode: 0 Status: OK PackageFile: kmcut_1.3.0.zip PackageFileSize: 562.8 KiB