Package: kissDE Version: 1.29.0 Command: /home/biocbuild/R/R/bin/R CMD build --keep-empty-dirs --no-resave-data kissDE StartedAt: 2025-07-11 01:43:02 -0000 (Fri, 11 Jul 2025) EndedAt: 2025-07-11 01:45:29 -0000 (Fri, 11 Jul 2025) EllapsedTime: 147.1 seconds RetCode: 0 Status: OK PackageFile: kissDE_1.29.0.tar.gz PackageFileSize: 841 KiB