Package: kissDE Version: 1.29.0 Command: F:\biocbuild\bbs-3.22-bioc\R\bin\R.exe CMD INSTALL kissDE StartedAt: 2025-07-14 16:30:34 -0400 (Mon, 14 Jul 2025) EndedAt: 2025-07-14 16:31:29 -0400 (Mon, 14 Jul 2025) EllapsedTime: 54.8 seconds RetCode: 0 Status: OK