Package: kissDE Version: 1.29.0 Command: chmod a+r kissDE -R && F:\biocbuild\bbs-3.22-bioc\R\bin\R.exe CMD build --keep-empty-dirs --no-resave-data kissDE StartedAt: 2025-07-14 19:58:26 -0400 (Mon, 14 Jul 2025) EndedAt: 2025-07-14 20:01:04 -0400 (Mon, 14 Jul 2025) EllapsedTime: 157.2 seconds RetCode: 0 Status: OK PackageFile: kissDE_1.29.0.tar.gz PackageFileSize: 859.3 KiB