Package: kissDE Version: 1.29.0 Maintainer: Aurélie Siberchicot MaintainerEmail: aurelie.siberchicot at univ-lyon1.fr git_url: https://git.bioconductor.org/packages/kissDE git_branch: devel git_last_commit: babe2b1 git_last_commit_date: 2025-04-15 11:17:57 -0400 (Tue, 15 Apr 2025)