Package: keggorthology Version: 2.61.0 Command: /home/biocbuild/R/R/bin/R CMD INSTALL keggorthology StartedAt: 2025-07-17 20:36:57 -0000 (Thu, 17 Jul 2025) EndedAt: 2025-07-17 20:37:15 -0000 (Thu, 17 Jul 2025) EllapsedTime: 17.5 seconds RetCode: 0 Status: OK