Package: keggorthology Version: 2.61.0 Command: F:\biocbuild\bbs-3.22-bioc\R\bin\R.exe CMD INSTALL keggorthology StartedAt: 2025-07-20 15:42:32 -0400 (Sun, 20 Jul 2025) EndedAt: 2025-07-20 15:42:53 -0400 (Sun, 20 Jul 2025) EllapsedTime: 20.8 seconds RetCode: 0 Status: OK