Package: keggorthology Version: 2.61.0 Command: F:\biocbuild\bbs-3.22-bioc\R\bin\R.exe CMD check --no-multiarch --install=check:keggorthology.install-out.txt --library=F:\biocbuild\bbs-3.22-bioc\R\library --no-vignettes --timings keggorthology_2.61.0.tar.gz StartedAt: 2025-07-22 03:27:25 -0400 (Tue, 22 Jul 2025) EndedAt: 2025-07-22 03:29:19 -0400 (Tue, 22 Jul 2025) EllapsedTime: 113.9 seconds RetCode: 0 Status: OK CheckDir: keggorthology.Rcheck Warnings: 0