Package: keggorthology Version: 2.61.0 Command: /home/biocbuild/bbs-3.22-bioc/R/bin/R CMD check --install=check:keggorthology.install-out.txt --library=/home/biocbuild/bbs-3.22-bioc/R/site-library --timings keggorthology_2.61.0.tar.gz StartedAt: 2025-07-20 23:35:53 -0400 (Sun, 20 Jul 2025) EndedAt: 2025-07-20 23:37:30 -0400 (Sun, 20 Jul 2025) EllapsedTime: 97.1 seconds RetCode: 0 Status: OK CheckDir: keggorthology.Rcheck Warnings: 0