Package: keggorthology Version: 2.61.0 Command: /home/biocbuild/bbs-3.22-bioc/R/bin/R CMD build --keep-empty-dirs --no-resave-data --md5 keggorthology StartedAt: 2025-07-20 17:48:53 -0400 (Sun, 20 Jul 2025) EndedAt: 2025-07-20 17:49:15 -0400 (Sun, 20 Jul 2025) EllapsedTime: 22.0 seconds RetCode: 0 Status: OK PackageFile: keggorthology_2.61.0.tar.gz PackageFileSize: 788.1 KiB