Package: keggorthology Version: 2.61.0 Command: /Library/Frameworks/R.framework/Resources/bin/R CMD check --install=check:keggorthology.install-out.txt --library=/Library/Frameworks/R.framework/Resources/library --no-vignettes --timings keggorthology_2.61.0.tar.gz StartedAt: 2025-07-18 21:25:30 -0400 (Fri, 18 Jul 2025) EndedAt: 2025-07-18 21:27:17 -0400 (Fri, 18 Jul 2025) EllapsedTime: 107.0 seconds RetCode: 0 Status: OK CheckDir: keggorthology.Rcheck Warnings: 0