Package: keggorthology Version: 2.61.0 Command: /Library/Frameworks/R.framework/Resources/bin/R CMD build --keep-empty-dirs --no-resave-data keggorthology StartedAt: 2025-07-18 17:15:08 -0400 (Fri, 18 Jul 2025) EndedAt: 2025-07-18 17:15:35 -0400 (Fri, 18 Jul 2025) EllapsedTime: 26.3 seconds RetCode: 0 Status: OK PackageFile: keggorthology_2.61.0.tar.gz PackageFileSize: 787.7 KiB