Package: keggorthology Version: 2.61.0 Command: /Library/Frameworks/R.framework/Resources/bin/R CMD INSTALL keggorthology StartedAt: 2025-07-20 15:09:20 -0400 (Sun, 20 Jul 2025) EndedAt: 2025-07-20 15:09:26 -0400 (Sun, 20 Jul 2025) EllapsedTime: 5.7 seconds RetCode: 0 Status: OK