Package: keggorthology Version: 2.61.0 Command: /Library/Frameworks/R.framework/Resources/bin/R CMD build --keep-empty-dirs --no-resave-data keggorthology StartedAt: 2025-07-20 16:44:15 -0400 (Sun, 20 Jul 2025) EndedAt: 2025-07-20 16:44:25 -0400 (Sun, 20 Jul 2025) EllapsedTime: 10.1 seconds RetCode: 0 Status: OK PackageFile: keggorthology_2.61.0.tar.gz PackageFileSize: 787.5 KiB