Package: katdetectr Version: 1.11.1 Command: /Library/Frameworks/R.framework/Resources/bin/R CMD build --keep-empty-dirs --no-resave-data katdetectr StartedAt: 2025-07-01 17:26:46 -0400 (Tue, 01 Jul 2025) EndedAt: 2025-07-01 17:28:13 -0400 (Tue, 01 Jul 2025) EllapsedTime: 86.9 seconds RetCode: 0 Status: OK PackageFile: katdetectr_1.11.1.tar.gz PackageFileSize: 1.464 MiB