Package: katdetectr Version: 1.11.1 Command: rm -rf katdetectr.buildbin-libdir && mkdir katdetectr.buildbin-libdir && /Users/biocbuild/BBS/utils/build-universal.sh katdetectr_1.11.1.tar.gz /Library/Frameworks/R.framework/Resources/bin/R katdetectr.buildbin-libdir StartedAt: 2025-07-02 01:03:20 -0400 (Wed, 02 Jul 2025) EndedAt: 2025-07-02 01:04:15 -0400 (Wed, 02 Jul 2025) EllapsedTime: 55.5 seconds RetCode: 0 Status: OK PackageFile: katdetectr_1.11.1.tgz PackageFileSize: 1.797 MiB